BEGIN:VCALENDAR
VERSION:2.0
METHOD:PUBLISH
PRODID:PZ.BS
BEGIN:VEVENT
UID:17154337
LOCATION:OFFCUT Basel
SUMMARY:25-108-14 A - Upcycling im Unterricht – vom Reststück zum Gestaltu
 ngselement
DESCRIPTION:Sie lernen den Materialmarkt OFFCUT und die kreative Wiederver
 wertung kennen. Sie erproben Techniken und setzen heterogenes Material in 
 Verbindung. Upcycling, Recycling, Reuse und Redesign werden vor- und zur D
 iskussion gestellt. Der Kurs stärkt das Materialbewusstsein und zeigt die 
 Dringlichkeit einer breit angelegten Wiederverwendungspraxis auf. Ein Ansa
 tz, der Kompetenzen des Bereichs Gestalten mit denen des Fachs NMG kombini
 ert. Die Inhalte des Kurses können Sie im eigenen Unterricht umsetzen.
CLASS:PUBLIC
DTSTART:20250402T163000
DTEND:20250402T200000
DTSTAMP:20260424T155142
END:VEVENT
BEGIN:VEVENT
UID:17154338
LOCATION:OFFCUT Basel
SUMMARY:25-108-14 A - Upcycling im Unterricht – vom Reststück zum Gestaltu
 ngselement
DESCRIPTION:Sie lernen den Materialmarkt OFFCUT und die kreative Wiederver
 wertung kennen. Sie erproben Techniken und setzen heterogenes Material in 
 Verbindung. Upcycling, Recycling, Reuse und Redesign werden vor- und zur D
 iskussion gestellt. Der Kurs stärkt das Materialbewusstsein und zeigt die 
 Dringlichkeit einer breit angelegten Wiederverwendungspraxis auf. Ein Ansa
 tz, der Kompetenzen des Bereichs Gestalten mit denen des Fachs NMG kombini
 ert. Die Inhalte des Kurses können Sie im eigenen Unterricht umsetzen.
CLASS:PUBLIC
DTSTART:20250409T163000
DTEND:20250409T200000
DTSTAMP:20260424T155142
END:VEVENT
END:VCALENDAR